BEGIN:VCALENDAR
VERSION:2.0
PRODID:-//Spudnik Press - ECPv6.10.2//NONSGML v1.0//EN
CALSCALE:GREGORIAN
METHOD:PUBLISH
X-WR-CALNAME:Spudnik Press
X-ORIGINAL-URL:https://www.spudnikpress.org
X-WR-CALDESC:Events for Spudnik Press
REFRESH-INTERVAL;VALUE=DURATION:PT1H
X-Robots-Tag:noindex
X-PUBLISHED-TTL:PT1H
BEGIN:VTIMEZONE
TZID:America/Chicago
BEGIN:DAYLIGHT
TZOFFSETFROM:-0600
TZOFFSETTO:-0500
TZNAME:CDT
DTSTART:20260308T080000
END:DAYLIGHT
BEGIN:STANDARD
TZOFFSETFROM:-0500
TZOFFSETTO:-0600
TZNAME:CST
DTSTART:20261101T070000
END:STANDARD
END:VTIMEZONE
BEGIN:VEVENT
DTSTART;TZID=America/Chicago:20260507T170000
DTEND;TZID=America/Chicago:20260507T180000
DTSTAMP:20260421T042011
CREATED:20260416T193204Z
LAST-MODIFIED:20260416T193204Z
UID:41059-1778173200-1778176800@www.spudnikpress.org
SUMMARY:Professional Practices Artist Lecture by Kacie Lees
DESCRIPTION:Join teaching artist Kacie Lees for a lecture on their work and free Professional Practices presentation covering living documents\, types of funding opportunities\, record keeping and digital organization\, resources\, and application tips to break into the world of exhibitions\, residencies\, and grants. \nLees is currently an Artist in Residence at Spudnik Press\, developing a new body of printwork that brings together thermally responsive inks and high-visibility reflective fabrics. Drawing from the visual language of early 20th-century pseudosciences—such as Rorschach inkblot tests and Thought Forms—the work takes on a nebulous\, expressive quality that reflects early attempts to make the invisible visible. These prints are both intuitive and investigative\, evoking shifting conditions and inviting engagement with ambiguity\, pattern\, and perception. \nKacie Lees is a Chicago-based neon artist\, printmaker\, and metalworker whose interdisciplinary practice explores light as both subject and material. Grounded in craft and informed by research into optics and chaos theory\, the work combines fire and electricity to create luminous forms that exist between natural phenomena and human perception. Lees teaches neon fabrication nationally and is the author of Neon Primer: A Handbook on Light Construction\, a hand-silkscreened technical manual supporting contemporary neon practice. \nPrograms at Spudnik Press are partially supported by grants from the Illinois Arts Council Agency\, the Driehaus Foundation\, and the Gaylord & Dorothy Donnelley Foundation.
URL:https://www.spudnikpress.org/event/professional-practices-artist-lecture-by-kacie-lees/
CATEGORIES:Artist Resident Events
ATTACH;FMTTYPE=image/png:https://www.spudnikpress.org/wp-content/uploads/2026/04/spudnik-press-kacies-lees-artist-in-residence-professional-practice-art-chicago-printmaking.png
END:VEVENT
END:VCALENDAR