BEGIN:VCALENDAR
VERSION:2.0
PRODID:-//Spudnik Press - ECPv6.10.2//NONSGML v1.0//EN
CALSCALE:GREGORIAN
METHOD:PUBLISH
X-WR-CALNAME:Spudnik Press
X-ORIGINAL-URL:https://www.spudnikpress.org
X-WR-CALDESC:Events for Spudnik Press
REFRESH-INTERVAL;VALUE=DURATION:PT1H
X-Robots-Tag:noindex
X-PUBLISHED-TTL:PT1H
BEGIN:VTIMEZONE
TZID:America/Chicago
BEGIN:DAYLIGHT
TZOFFSETFROM:-0600
TZOFFSETTO:-0500
TZNAME:CDT
DTSTART:20260308T080000
END:DAYLIGHT
BEGIN:STANDARD
TZOFFSETFROM:-0500
TZOFFSETTO:-0600
TZNAME:CST
DTSTART:20261101T070000
END:STANDARD
END:VTIMEZONE
BEGIN:VEVENT
DTSTART;TZID=America/Chicago:20260610T180000
DTEND;TZID=America/Chicago:20260610T200000
DTSTAMP:20260421T091923
CREATED:20260416T190207Z
LAST-MODIFIED:20260416T190207Z
UID:41053-1781114400-1781121600@www.spudnikpress.org
SUMMARY:Drink & Draw: Carnival Edition
DESCRIPTION:Come have a drink with us! Join us for Drink & Draw! \nSpudnik Press is turning 19\, and we’re throwing a carnival to celebrate! Join us for a special Drink & Draw where we’ll be making decorations for our upcoming fundraiser. Come help us get the big top ready — paint signs\, craft garlands\, make props\, and get into the carnival spirit while you drink and draw. \nRSVP encouraged so we can plan accordingly — drop-ins also welcome. \nDrink & Draw is a low-key\, drop-in social workshop devoted to drawing practices. There are no pretensions\, no prerequisites\, and newcomers are always welcome. Drink & Draw occurs on the second Wednesday of every month and features a special theme and a guest artist. Admission is a suggested donation of $10–$20 but this time you are helping us\, so pick the $0 option at RSVP). We provide the drinks — you just bring yourself (and your friends\, and your family; children are always welcome). \nDrink & Draw is generously sponsored by The Long Drink.
URL:https://www.spudnikpress.org/event/drink-draw-carnival-edition/
CATEGORIES:Drink and Draw
ATTACH;FMTTYPE=image/png:https://www.spudnikpress.org/wp-content/uploads/2026/04/Red-and-Cream-Retro-Illustration-Carnival-Ticket-1.png
END:VEVENT
END:VCALENDAR